BEGIN:VCALENDAR
VERSION:2.0
PRODID:-//Centro Laskurain Pamplona - ECPv6.15.17//NONSGML v1.0//EN
CALSCALE:GREGORIAN
METHOD:PUBLISH
X-WR-CALNAME:Centro Laskurain Pamplona
X-ORIGINAL-URL:https://laskurain.org
X-WR-CALDESC:Eventos para Centro Laskurain Pamplona
REFRESH-INTERVAL;VALUE=DURATION:PT1H
X-Robots-Tag:noindex
X-PUBLISHED-TTL:PT1H
BEGIN:VTIMEZONE
TZID:Europe/Madrid
BEGIN:DAYLIGHT
TZOFFSETFROM:+0100
TZOFFSETTO:+0200
TZNAME:CEST
DTSTART:20250330T010000
END:DAYLIGHT
BEGIN:STANDARD
TZOFFSETFROM:+0200
TZOFFSETTO:+0100
TZNAME:CET
DTSTART:20251026T010000
END:STANDARD
BEGIN:DAYLIGHT
TZOFFSETFROM:+0100
TZOFFSETTO:+0200
TZNAME:CEST
DTSTART:20260329T010000
END:DAYLIGHT
BEGIN:STANDARD
TZOFFSETFROM:+0200
TZOFFSETTO:+0100
TZNAME:CET
DTSTART:20261025T010000
END:STANDARD
BEGIN:DAYLIGHT
TZOFFSETFROM:+0100
TZOFFSETTO:+0200
TZNAME:CEST
DTSTART:20270328T010000
END:DAYLIGHT
BEGIN:STANDARD
TZOFFSETFROM:+0200
TZOFFSETTO:+0100
TZNAME:CET
DTSTART:20271031T010000
END:STANDARD
END:VTIMEZONE
BEGIN:VEVENT
DTSTART;TZID=Europe/Madrid:20260425T113000
DTEND;TZID=Europe/Madrid:20260425T133000
DTSTAMP:20260423T072909
CREATED:20260422T053055Z
LAST-MODIFIED:20260422T053055Z
UID:16348-1777116600-1777123800@laskurain.org
SUMMARY:Meditación en Movimiento ZENTRAT
DESCRIPTION:Con mucha ilusión te compartimos la próxima actividad: \nUna meditación en movimiento\, activa y divertida. \nLa meditación activa es una práctica que integra la atención plena y la conciencia en el movimiento corporal o actividades cotidianas\, permitiendo reducir el estrés y calmar la mente sin necesidad de inmovilidad. A diferencia de la meditación tradicional\, utiliza acciones físicas como el baile\, caminar\, estiramientos o ejercicios conscientes\, siendo ideal para personas inquietas. \nSábado 25 de Abril de 11.30 a 13.30 en Laskurain \nActividad Gratuita con aportación voluntaria \nImportante: confirma tu asistencia en el tfn 650.831.373 \nTe esperamos!!
URL:https://laskurain.org/evento/meditacion-en-movimiento-zentrat/
LOCATION:Centro Laskurain Pamplona\, Bardenas Reales 11\, Pamplona\, Navarra\, 31006\, Spain
CATEGORIES:Meditación,Mindfulness,Movimiento,movimiento y baile,Talleres
ATTACH;FMTTYPE=image/jpeg:https://laskurain.org/wp-content/uploads/2026/04/IMG-20260213-WA0008-1.jpg
ORGANIZER;CN="Laskurain Pamplona Su":MAILTO:info@laskurain.org
END:VEVENT
END:VCALENDAR